BEGIN:VCALENDAR
VERSION:2.0
CALSCALE:GREGORIAN
PRODID:-//Diputació de Barcelona//DibaCMS//EN
BEGIN:VEVENT
UID:32541
DTSTAMP:20260421T225800
DTSTART:20250307T180000
DTEND:20250307T180000
SUMMARY:Concert 8M
LOCATION:Carrer Balmes, 16       08110 Montcada i Reixac
METHOD:PUBLISH
X-WR-CALNAME:oac@montcada.org
X-WR-TIMEZONE:Europe/Madrid
DESCRIPTION:
URI:https://www.montcada.cat/actualitat/agenda/concert-8m.html
CLASS:PUBLIC
END:VEVENT
END:VCALENDAR
