BEGIN:VCALENDAR
VERSION:2.0
CALSCALE:GREGORIAN
PRODID:-//Diputació de Barcelona//DibaCMS//EN
BEGIN:VEVENT
UID:32540
DTSTAMP:20260421T190349
DTSTART:20250303T183000
DTEND:20250303T183000
SUMMARY:Club ficció en joc. Juguem a kids
LOCATION:Carrer Balmes, 16       08110 Montcada i Reixac
METHOD:PUBLISH
X-WR-CALNAME:oac@montcada.org
X-WR-TIMEZONE:Europe/Madrid
DESCRIPTION:
URI:https://www.montcada.cat/actualitat/agenda/club-ficcio-en-joc-juguem-a-kids.html
CLASS:PUBLIC
END:VEVENT
END:VCALENDAR
