BEGIN:VCALENDAR
VERSION:2.0
CALSCALE:GREGORIAN
PRODID:-//Diputació de Barcelona//DibaCMS//EN
BEGIN:VEVENT
UID:32539
DTSTAMP:20260421T202415
DTSTART:20250304T193000
DTEND:20250304T193000
SUMMARY:Acte. Inauguració exposició Cartells Dia de la Dona
LOCATION: c. Masia, 39       08110 Montcada i Reixac
METHOD:PUBLISH
X-WR-CALNAME:oac@montcada.org
X-WR-TIMEZONE:Europe/Madrid
DESCRIPTION:
URI:https://www.montcada.cat/ajuntament/govern/agenda-politica/hemeroteca-agenda-politica/acte-inauguracio-exposicio-cartells-dia-de-la-dona.html
CLASS:PUBLIC
END:VEVENT
END:VCALENDAR
