BEGIN:VCALENDAR
VERSION:2.0
CALSCALE:GREGORIAN
PRODID:-//Diputació de Barcelona//DibaCMS//EN
BEGIN:VEVENT
UID:32520
DTSTAMP:20260421T202425
DTSTART:20250226T190000
DTEND:20250226T190000
SUMMARY:Ple ordinari febrer 2025
LOCATION:Carrer Major, 32 - Carrer Domènec Fins, 15 08110 Montcada i Reixac
METHOD:PUBLISH
X-WR-CALNAME:oac@montcada.org
X-WR-TIMEZONE:Europe/Madrid
DESCRIPTION:
URI:https://www.montcada.cat/actualitat/agenda/ple-ordinari-febrer-2025.html
CLASS:PUBLIC
END:VEVENT
END:VCALENDAR
