BEGIN:VCALENDAR
VERSION:2.0
CALSCALE:GREGORIAN
PRODID:-//Diputació de Barcelona//DibaCMS//EN
BEGIN:VEVENT
UID:32512
DTSTAMP:20260421T184911
DTSTART:20250304T183000
DTEND:20250314T193000
SUMMARY:Exposició. 10è Concurs de cartells 8 de març Dia de les Dones Treballadores
LOCATION: c. Masia, 39       08110 Montcada i Reixac
METHOD:PUBLISH
X-WR-CALNAME:oac@montcada.org
X-WR-TIMEZONE:Europe/Madrid
DESCRIPTION:
URI:https://www.montcada.cat/actualitat/agenda/exposicio-10e-concurs-de-cartells-8-de-marc-dia-de-les-dones-treballadores.html
CLASS:PUBLIC
END:VEVENT
END:VCALENDAR
