BEGIN:VCALENDAR
VERSION:2.0
CALSCALE:GREGORIAN
PRODID:-//Diputació de Barcelona//DibaCMS//EN
BEGIN:VEVENT
UID:32507
DTSTAMP:20260421T161527
DTSTART:20250313T180000
DTEND:20250313T180000
SUMMARY:Xerrada. Dones a les ones: una altra història de la ràdio
LOCATION:Avinguda de la Unitat, s/n 08110 Montcada i Reixac
METHOD:PUBLISH
X-WR-CALNAME:oac@montcada.org
X-WR-TIMEZONE:Europe/Madrid
DESCRIPTION:
URI:https://www.montcada.cat/actualitat/agenda/xerrada-dones-a-les-ones-una-altra-historia-de-la-radio.html
CLASS:PUBLIC
END:VEVENT
END:VCALENDAR
