BEGIN:VCALENDAR
VERSION:2.0
CALSCALE:GREGORIAN
PRODID:-//Diputació de Barcelona//DibaCMS//EN
BEGIN:VEVENT
UID:32501
DTSTAMP:20260421T161809
DTSTART:20250307T190000
DTEND:20250331T190000
SUMMARY:Exposició. Colors: mirades de dona
LOCATION:Carrer Alt de Sant Pere, 73       08110 Montcada i Reixac
METHOD:PUBLISH
X-WR-CALNAME:oac@montcada.org
X-WR-TIMEZONE:Europe/Madrid
DESCRIPTION:
URI:https://www.montcada.cat/actualitat/agenda/exposicio-colors-mirades-de-dona.html
CLASS:PUBLIC
END:VEVENT
END:VCALENDAR
