BEGIN:VCALENDAR
VERSION:2.0
CALSCALE:GREGORIAN
PRODID:-//Diputació de Barcelona//DibaCMS//EN
BEGIN:VEVENT
UID:32498
DTSTAMP:20260421T185449
DTSTART:20250311T110000
DTEND:20250311T123000
SUMMARY:Taller. Plantes de dones
LOCATION:08110 Montcada i Reixac
METHOD:PUBLISH
X-WR-CALNAME:oac@montcada.org
X-WR-TIMEZONE:Europe/Madrid
DESCRIPTION:
URI:https://www.montcada.cat/actualitat/agenda/taller-plantes-de-dones.html
CLASS:PUBLIC
END:VEVENT
END:VCALENDAR
