BEGIN:VCALENDAR
VERSION:2.0
CALSCALE:GREGORIAN
PRODID:-//Diputació de Barcelona//DibaCMS//EN
BEGIN:VEVENT
UID:32485
DTSTAMP:20260421T142432
DTSTART:20250226T100000
DTEND:20250226T100000
SUMMARY:Acte. La Pregonada de Carnaval
LOCATION:
METHOD:PUBLISH
X-WR-CALNAME:oac@montcada.org
X-WR-TIMEZONE:Europe/Madrid
DESCRIPTION:
URI:https://www.montcada.cat/ajuntament/govern/agenda-politica/hemeroteca-agenda-politica/acte-la-pregonada-de-carnaval.html
CLASS:PUBLIC
END:VEVENT
END:VCALENDAR
