BEGIN:VCALENDAR
VERSION:2.0
CALSCALE:GREGORIAN
PRODID:-//Diputació de Barcelona//DibaCMS//EN
BEGIN:VEVENT
UID:32471
DTSTAMP:20260421T144848
DTSTART:20250312T173000
DTEND:20250312T173000
SUMMARY:Aula Mir. Les grans dones matemàtiques al llarg de la història: què en sabem
LOCATION: pl. de l'Església, 12       08110 Montcada i Reixac
METHOD:PUBLISH
X-WR-CALNAME:oac@montcada.org
X-WR-TIMEZONE:Europe/Madrid
DESCRIPTION:
URI:https://www.montcada.cat/actualitat/agenda/aula-mir-les-grans-dones-matematiques-al-llarg-de-la-historia-que-en-sabem.html
CLASS:PUBLIC
END:VEVENT
END:VCALENDAR
