BEGIN:VCALENDAR
VERSION:2.0
CALSCALE:GREGORIAN
PRODID:-//Diputació de Barcelona//DibaCMS//EN
BEGIN:VEVENT
UID:32456
DTSTAMP:20260421T202228
DTSTART:20250228T000000
DTEND:20250302T235900
SUMMARY:Torneig solidari. III memorial Adán González contra el càncer infantil
LOCATION:Carrer Progrés, 61       08110 Montcada i Reixac
METHOD:PUBLISH
X-WR-CALNAME:oac@montcada.org
X-WR-TIMEZONE:Europe/Madrid
DESCRIPTION:
URI:https://www.montcada.cat/actualitat/agenda/torneig-solidari-iii-memorial-adan-gonzalez-contra-el-cancer-infantil.html
CLASS:PUBLIC
END:VEVENT
END:VCALENDAR
