BEGIN:VCALENDAR
VERSION:2.0
CALSCALE:GREGORIAN
PRODID:-//Diputació de Barcelona//DibaCMS//EN
BEGIN:VEVENT
UID:32440
DTSTAMP:20260421T185927
DTSTART:20250305T170000
DTEND:20250305T210000
SUMMARY:Jornada de donació de sang
LOCATION:Camí de la Font Freda, 3       08110 Montcada i Reixac
METHOD:PUBLISH
X-WR-CALNAME:oac@montcada.org
X-WR-TIMEZONE:Europe/Madrid
DESCRIPTION:
URI:https://www.montcada.cat/actualitat/agenda/32440-jornada-de-donacio-de-sang.html
CLASS:PUBLIC
END:VEVENT
END:VCALENDAR
