BEGIN:VCALENDAR
VERSION:2.0
CALSCALE:GREGORIAN
PRODID:-//Diputació de Barcelona//DibaCMS//EN
BEGIN:VEVENT
UID:32435
DTSTAMP:20260422T020908
DTSTART:20250323T173000
DTEND:20250323T173000
SUMMARY:Espectacle de playbacks. Deu anys amb vosaltres
LOCATION: c. Masia, 39       08110 Montcada i Reixac
METHOD:PUBLISH
X-WR-CALNAME:oac@montcada.org
X-WR-TIMEZONE:Europe/Madrid
DESCRIPTION:
URI:https://www.montcada.cat/actualitat/agenda/espectacle-de-playbacks-deu-anys-amb-vosaltres.html
CLASS:PUBLIC
END:VEVENT
END:VCALENDAR
