BEGIN:VCALENDAR
VERSION:2.0
CALSCALE:GREGORIAN
PRODID:-//Diputació de Barcelona//DibaCMS//EN
BEGIN:VEVENT
UID:32425
DTSTAMP:20260422T004714
DTSTART:20250319T173000
DTEND:20250319T173000
SUMMARY:Col·loqui i recital
LOCATION:Avinguda de la Unitat, s/n 08110 Montcada i Reixac
METHOD:PUBLISH
X-WR-CALNAME:oac@montcada.org
X-WR-TIMEZONE:Europe/Madrid
DESCRIPTION:A càrrec del músic Abraham Lojo

URI:https://www.montcada.cat/actualitat/agenda/colloqui-i-recital.html
CLASS:PUBLIC
END:VEVENT
END:VCALENDAR
