BEGIN:VCALENDAR
VERSION:2.0
CALSCALE:GREGORIAN
PRODID:-//Diputació de Barcelona//DibaCMS//EN
BEGIN:VEVENT
UID:32388
DTSTAMP:20260422T003009
DTSTART:20250219T183000
DTEND:20250219T183000
SUMMARY:Diada contra l'LGTBIfòbia a l'esport
LOCATION:Carrer Progrés, 61       08110 Montcada i Reixac
METHOD:PUBLISH
X-WR-CALNAME:oac@montcada.org
X-WR-TIMEZONE:Europe/Madrid
DESCRIPTION:Adreçada a persones que formen part de les entitats esportives.

URI:https://www.montcada.cat/actualitat/agenda/diada-contra-llgtbifobia-a-lesport.html
CLASS:PUBLIC
END:VEVENT
END:VCALENDAR
