BEGIN:VCALENDAR
VERSION:2.0
CALSCALE:GREGORIAN
PRODID:-//Diputació de Barcelona//DibaCMS//EN
BEGIN:VEVENT
UID:32382
DTSTAMP:20260421T192326
DTSTART:20250316T110000
DTEND:20250316T110000
SUMMARY:Festa. 30 anys del Casal de la Mina
LOCATION:Avinguda de la Unitat, s/n 08110 Montcada i Reixac
METHOD:PUBLISH
X-WR-CALNAME:oac@montcada.org
X-WR-TIMEZONE:Europe/Madrid
DESCRIPTION:
	Botifarrada
	Batucada
	Actuació musical CONFINA2


Tiquets per la botifarra, els dilluns o divendres de 16 a 18h a la Casa de la Mina (Av. de la Unitat, s/n)

URI:https://www.montcada.cat/actualitat/agenda/festa-30-anys-del-casal-de-la-mina.html
CLASS:PUBLIC
END:VEVENT
END:VCALENDAR
