BEGIN:VCALENDAR
VERSION:2.0
CALSCALE:GREGORIAN
PRODID:-//Diputació de Barcelona//DibaCMS//EN
BEGIN:VEVENT
UID:32367
DTSTAMP:20260421T202213
DTSTART:20250227T170000
DTEND:20250227T170000
SUMMARY:Dijous gras
LOCATION:08110 Montcada i Reixac
METHOD:PUBLISH
X-WR-CALNAME:oac@montcada.org
X-WR-TIMEZONE:Europe/Madrid
DESCRIPTION:L’arribada i la proclamació del Regnat

URI:https://www.montcada.cat/actualitat/agenda/dijous-gras.html
CLASS:PUBLIC
END:VEVENT
END:VCALENDAR
