BEGIN:VCALENDAR
VERSION:2.0
CALSCALE:GREGORIAN
PRODID:-//Diputació de Barcelona//DibaCMS//EN
BEGIN:VEVENT
UID:32266
DTSTAMP:20260422T061245
DTSTART:20250212T173000
DTEND:20250212T173000
SUMMARY:Xerrada. Productes tòxics a la llar: com ens afecten i com podem reduir-los
LOCATION: pl. de l'Església, 12       08110 Montcada i Reixac
METHOD:PUBLISH
X-WR-CALNAME:oac@montcada.org
X-WR-TIMEZONE:Europe/Madrid
DESCRIPTION:
URI:https://www.montcada.cat/actualitat/agenda/xerrada-productes-toxics-a-la-llar-com-ens-afecten-i-com-podem-reduir-los.html
CLASS:PUBLIC
END:VEVENT
END:VCALENDAR
