BEGIN:VCALENDAR
VERSION:2.0
CALSCALE:GREGORIAN
PRODID:-//Diputació de Barcelona//DibaCMS//EN
BEGIN:VEVENT
UID:32160
DTSTAMP:20260421T211429
DTSTART:20250601T120000
DTEND:20250601T120000
SUMMARY:Els secrets de la Casa de les Aigües
LOCATION:Parc de les Aigües  08110 Montcada i Reixac
METHOD:PUBLISH
X-WR-CALNAME:oac@montcada.org
X-WR-TIMEZONE:Europe/Madrid
DESCRIPTION:Visita guiada. Durada: 1,5 h

URI:https://www.montcada.cat/actualitat/agenda/32160-els-secrets-de-la-casa-de-les-aigues.html
CLASS:PUBLIC
END:VEVENT
END:VCALENDAR
