BEGIN:VCALENDAR
VERSION:2.0
CALSCALE:GREGORIAN
PRODID:-//Diputació de Barcelona//DibaCMS//EN
BEGIN:VEVENT
UID:32150
DTSTAMP:20260421T174917
DTSTART:20250308T110000
DTEND:20250308T110000
SUMMARY:Taller infantil. Laboratori menut: Ciència s’escriu en femení
LOCATION:Parc de les Aigües  08110 Montcada i Reixac
METHOD:PUBLISH
X-WR-CALNAME:oac@montcada.org
X-WR-TIMEZONE:Europe/Madrid
DESCRIPTION:
URI:https://www.montcada.cat/actualitat/agenda/taller-infantil-laboratori-menut-ciencia-sescriu-en-femeni.html
CLASS:PUBLIC
END:VEVENT
END:VCALENDAR
