BEGIN:VCALENDAR
VERSION:2.0
CALSCALE:GREGORIAN
PRODID:-//Diputació de Barcelona//DibaCMS//EN
BEGIN:VEVENT
UID:32147
DTSTAMP:20260419T204650
DTSTART:20250216T110000
DTEND:20250216T110000
SUMMARY:Contes d’aigua
LOCATION:Parc de les Aigües  08110 Montcada i Reixac
METHOD:PUBLISH
X-WR-CALNAME:oac@montcada.org
X-WR-TIMEZONE:Europe/Madrid
DESCRIPTION:
URI:https://www.montcada.cat/actualitat/agenda/32147-contes-daigua.html
CLASS:PUBLIC
END:VEVENT
END:VCALENDAR
