BEGIN:VCALENDAR
VERSION:2.0
CALSCALE:GREGORIAN
PRODID:-//Diputació de Barcelona//DibaCMS//EN
BEGIN:VEVENT
UID:32126
DTSTAMP:20260422T044313
DTSTART:20250202T080000
DTEND:20250202T080000
SUMMARY:Montcada Camina 2025. Turó de Montcada (10 km)
LOCATION:Sortida: a les 8 h, al Pavelló Miquel Poblet (Camí de la Font Freda, 3) 
METHOD:PUBLISH
X-WR-CALNAME:oac@montcada.org
X-WR-TIMEZONE:Europe/Madrid
DESCRIPTION:Cicle de sortides per descobrir indrets de Montcada i Reixac i els seus voltants

URI:https://www.montcada.cat/actualitat/agenda/montcada-camina-2025-turo-de-montcada-10-km.html
CLASS:PUBLIC
END:VEVENT
END:VCALENDAR
