BEGIN:VCALENDAR
VERSION:2.0
CALSCALE:GREGORIAN
PRODID:-//Diputació de Barcelona//DibaCMS//EN
BEGIN:VEVENT
UID:32100
DTSTAMP:20260422T072009
DTSTART:20250124T170000
DTEND:20250124T190000
SUMMARY:Espai de joc familiar
LOCATION:Carrer Geranis, s/n       08110 Montcada i Reixac
METHOD:PUBLISH
X-WR-CALNAME:oac@montcada.org
X-WR-TIMEZONE:Europe/Madrid
DESCRIPTION:Adreçat a infants de 0 a 6 anys.

URI:https://www.montcada.cat/actualitat/agenda/espai-de-joc-familiar.html
CLASS:PUBLIC
END:VEVENT
END:VCALENDAR
