BEGIN:VCALENDAR
VERSION:2.0
CALSCALE:GREGORIAN
PRODID:-//Diputació de Barcelona//DibaCMS//EN
BEGIN:VEVENT
UID:32066
DTSTAMP:20260422T085131
DTSTART:20250116T180000
DTEND:20250116T180000
SUMMARY:Club de lectura de novel·la. Número dos
LOCATION: c. Turó, 45       08110 Montcada i Reixac
METHOD:PUBLISH
X-WR-CALNAME:oac@montcada.org
X-WR-TIMEZONE:Europe/Madrid
DESCRIPTION:De David Foentikos.

URI:https://www.montcada.cat/actualitat/agenda/club-de-lectura-de-novella-numero-dos.html
CLASS:PUBLIC
END:VEVENT
END:VCALENDAR
