BEGIN:VCALENDAR
VERSION:2.0
CALSCALE:GREGORIAN
PRODID:-//Diputació de Barcelona//DibaCMS//EN
BEGIN:VEVENT
UID:32064
DTSTAMP:20260422T151443
DTSTART:20250110T183000
DTEND:20250110T183000
SUMMARY:La Cripta de l'Elisenda. Parla
LOCATION: c. Tarragona, 32       08110 Montcada i Reixac
METHOD:PUBLISH
X-WR-CALNAME:oac@montcada.org
X-WR-TIMEZONE:Europe/Madrid
DESCRIPTION:De Laurie Halse Anderson.

URI:https://www.montcada.cat/actualitat/agenda/la-cripta-de-lelisenda-parla.html
CLASS:PUBLIC
END:VEVENT
END:VCALENDAR
