BEGIN:VCALENDAR
VERSION:2.0
CALSCALE:GREGORIAN
PRODID:-//Diputació de Barcelona//DibaCMS//EN
BEGIN:VEVENT
UID:32044
DTSTAMP:20260422T091340
DTSTART:20250122T173000
DTEND:20250122T173000
SUMMARY:Xerrada. Primers auxilis
LOCATION:Carrer Viver, s/n       08110 Montcada i Reixac
METHOD:PUBLISH
X-WR-CALNAME:oac@montcada.org
X-WR-TIMEZONE:Europe/Madrid
DESCRIPTION:A càrrec de Creu Roja

URI:https://www.montcada.cat/actualitat/agenda/xerrada-primers-auxilis.html
CLASS:PUBLIC
END:VEVENT
END:VCALENDAR
