BEGIN:VCALENDAR
VERSION:2.0
CALSCALE:GREGORIAN
PRODID:-//Diputació de Barcelona//DibaCMS//EN
BEGIN:VEVENT
UID:32042
DTSTAMP:20260421T230151
DTSTART:20250221T100000
DTEND:20250328T200000
SUMMARY:Exposició. Sentiments i emocions
LOCATION:Carrer Geranis, s/n       08110 Montcada i Reixac
METHOD:PUBLISH
X-WR-CALNAME:oac@montcada.org
X-WR-TIMEZONE:Europe/Madrid
DESCRIPTION:Pintures de Manoli Tapias

URI:https://www.montcada.cat/actualitat/agenda/exposicio-sentiments-i-emocions.html
CLASS:PUBLIC
END:VEVENT
END:VCALENDAR
