BEGIN:VCALENDAR
VERSION:2.0
CALSCALE:GREGORIAN
PRODID:-//Diputació de Barcelona//DibaCMS//EN
BEGIN:VEVENT
UID:31974
DTSTAMP:20260420T135001
DTSTART:20250115T000000
DTEND:20250214T000000
SUMMARY:Exposició. Joan Montcada 100 anys. Artífex de plena creativitat i mestratge emblemàtic
LOCATION:Avinguda de la Unitat, s/n 08110 Montcada i Reixac
METHOD:PUBLISH
X-WR-CALNAME:oac@montcada.org
X-WR-TIMEZONE:Europe/Madrid
DESCRIPTION:
URI:https://www.montcada.cat/actualitat/agenda/exposicio-joan-montcada-100-anys-artifex-de-plena-creativitat-i-mestratge-emblematic.html
CLASS:PUBLIC
END:VEVENT
END:VCALENDAR
