BEGIN:VCALENDAR
VERSION:2.0
CALSCALE:GREGORIAN
PRODID:-//Diputació de Barcelona//DibaCMS//EN
BEGIN:VEVENT
UID:31954
DTSTAMP:20260422T151000
DTSTART:20241217T183000
DTEND:20241217T183000
SUMMARY:Presentció número 49 revista 'Quaderns'
LOCATION:Carrer Major, 47       08110 Montcada i Reixac
METHOD:PUBLISH
X-WR-CALNAME:oac@montcada.org
X-WR-TIMEZONE:Europe/Madrid
DESCRIPTION:
URI:https://www.montcada.cat/actualitat/agenda/presentcio-numero-49-revista-quaderns.html
CLASS:PUBLIC
END:VEVENT
END:VCALENDAR
