BEGIN:VCALENDAR
VERSION:2.0
CALSCALE:GREGORIAN
PRODID:-//Diputació de Barcelona//DibaCMS//EN
BEGIN:VEVENT
UID:31886
DTSTAMP:20260422T190335
DTSTART:20241221T100000
DTEND:20241222T200000
SUMMARY:Un Nadal Màgic a Mas Rampinyo
LOCATION:Avinguda Catalunya, 16-18       08110 Montcada i Reixac
METHOD:PUBLISH
X-WR-CALNAME:oac@montcada.org
X-WR-TIMEZONE:Europe/Madrid
DESCRIPTION:
URI:https://www.montcada.cat/actualitat/agenda/un-nadal-magic-a-mas-rampinyo.html
CLASS:PUBLIC
END:VEVENT
END:VCALENDAR
