BEGIN:VCALENDAR
VERSION:2.0
CALSCALE:GREGORIAN
PRODID:-//Diputació de Barcelona//DibaCMS//EN
BEGIN:VEVENT
UID:31883
DTSTAMP:20260422T123718
DTSTART:20241225T090000
DTEND:20241225T090000
SUMMARY:Ofici de Nadal
LOCATION:Plaça de l'Església, s/n 08110 Montcada i Reixac
METHOD:PUBLISH
X-WR-CALNAME:oac@montcada.org
X-WR-TIMEZONE:Europe/Madrid
DESCRIPTION:
URI:https://www.montcada.cat/actualitat/agenda/ofici-de-nadal.html
CLASS:PUBLIC
END:VEVENT
END:VCALENDAR
