BEGIN:VCALENDAR
VERSION:2.0
CALSCALE:GREGORIAN
PRODID:-//Diputació de Barcelona//DibaCMS//EN
BEGIN:VEVENT
UID:31882
DTSTAMP:20260422T123818
DTSTART:20241224T200000
DTEND:20241224T200000
SUMMARY:Missa de la Vigília de Nadal
LOCATION:Carretera de la Vallençana, km 7  08110 Montcada i Reixac
METHOD:PUBLISH
X-WR-CALNAME:oac@montcada.org
X-WR-TIMEZONE:Europe/Madrid
DESCRIPTION:
URI:https://www.montcada.cat/actualitat/agenda/missa-de-la-vigilia-de-nadal.html
CLASS:PUBLIC
END:VEVENT
END:VCALENDAR
