BEGIN:VCALENDAR
VERSION:2.0
CALSCALE:GREGORIAN
PRODID:-//Diputació de Barcelona//DibaCMS//EN
BEGIN:VEVENT
UID:31832
DTSTAMP:20260422T150848
DTSTART:20241218T160000
DTEND:20241218T200000
SUMMARY:Jornada de donació de plasma
LOCATION:Camí de la Font Freda, 3       08110 Montcada i Reixac
METHOD:PUBLISH
X-WR-CALNAME:oac@montcada.org
X-WR-TIMEZONE:Europe/Madrid
DESCRIPTION:
URI:https://www.montcada.cat/actualitat/agenda/31832-jornada-de-donacio-de-plasma.html
CLASS:PUBLIC
END:VEVENT
END:VCALENDAR
