BEGIN:VCALENDAR
VERSION:2.0
CALSCALE:GREGORIAN
PRODID:-//Diputació de Barcelona//DibaCMS//EN
BEGIN:VEVENT
UID:31818
DTSTAMP:20260420T104634
DTSTART:20241214T120000
DTEND:20241214T120000
SUMMARY:Acte. Senyalització exterior del memorial democrátic fosses comunes
LOCATION:Carrer dels Boters, 18 Cementiri de Cerdanyola
 
METHOD:PUBLISH
X-WR-CALNAME:oac@montcada.org
X-WR-TIMEZONE:Europe/Madrid
DESCRIPTION:
URI:https://www.montcada.cat/ajuntament/govern/agenda-politica/hemeroteca-agenda-politica/acte-senyalitzacio-exterior-del-memorial-democratic-fosses-comunes.html
CLASS:PUBLIC
END:VEVENT
END:VCALENDAR
