BEGIN:VCALENDAR
VERSION:2.0
CALSCALE:GREGORIAN
PRODID:-//Diputació de Barcelona//DibaCMS//EN
BEGIN:VEVENT
UID:31785
DTSTAMP:20260420T132021
DTSTART:20241204T090000
DTEND:20241204T090000
SUMMARY:Acte. Taller xarxa de suport a la seguretat als polígons industrials
LOCATION:Carrer Major, 32 - Carrer Domènec Fins, 15 08110 Montcada i Reixac
METHOD:PUBLISH
X-WR-CALNAME:oac@montcada.org
X-WR-TIMEZONE:Europe/Madrid
DESCRIPTION:
URI:https://www.montcada.cat/ajuntament/govern/agenda-politica/hemeroteca-agenda-politica/acte-taller-xarxa-de-suport-a-la-seguretat-als-poligons-industrials.html
CLASS:PUBLIC
END:VEVENT
END:VCALENDAR
