BEGIN:VCALENDAR
VERSION:2.0
CALSCALE:GREGORIAN
PRODID:-//Diputació de Barcelona//DibaCMS//EN
BEGIN:VEVENT
UID:31736
DTSTAMP:20260422T202509
DTSTART:20241203T180000
DTEND:20241203T180000
SUMMARY:Aula digital. Apps digitals
LOCATION: c. Tarragona, 32       08110 Montcada i Reixac
METHOD:PUBLISH
X-WR-CALNAME:oac@montcada.org
X-WR-TIMEZONE:Europe/Madrid
DESCRIPTION:
URI:https://www.montcada.cat/actualitat/agenda/aula-digital-apps-digitals.html
CLASS:PUBLIC
END:VEVENT
END:VCALENDAR
