BEGIN:VCALENDAR
VERSION:2.0
CALSCALE:GREGORIAN
PRODID:-//Diputació de Barcelona//DibaCMS//EN
BEGIN:VEVENT
UID:31735
DTSTAMP:20260422T134556
DTSTART:20241218T180000
DTEND:20241218T180000
SUMMARY:Taller. Làmpades de Nadal i Cap d'Any
LOCATION: c. Turó, 45       08110 Montcada i Reixac
METHOD:PUBLISH
X-WR-CALNAME:oac@montcada.org
X-WR-TIMEZONE:Europe/Madrid
DESCRIPTION:
URI:https://www.montcada.cat/actualitat/agenda/taller-lampades-de-nadal-i-cap-dany.html
CLASS:PUBLIC
END:VEVENT
END:VCALENDAR
