BEGIN:VCALENDAR
VERSION:2.0
CALSCALE:GREGORIAN
PRODID:-//Diputació de Barcelona//DibaCMS//EN
BEGIN:VEVENT
UID:31723
DTSTAMP:20260422T163036
DTSTART:20241212T170000
DTEND:20241212T170000
SUMMARY:Celebrem els 90
LOCATION:Avinguda de la Unitat, s/n 08110 Montcada i Reixac
METHOD:PUBLISH
X-WR-CALNAME:oac@montcada.org
X-WR-TIMEZONE:Europe/Madrid
DESCRIPTION:
URI:https://www.montcada.cat/actualitat/agenda/31723-celebrem-els-90.html
CLASS:PUBLIC
END:VEVENT
END:VCALENDAR
