BEGIN:VCALENDAR
VERSION:2.0
CALSCALE:GREGORIAN
PRODID:-//Diputació de Barcelona//DibaCMS//EN
BEGIN:VEVENT
UID:31699
DTSTAMP:20260422T150720
DTSTART:20241217T170000
DTEND:20241217T193000
SUMMARY:Festa d'Hivern a la Ribera
LOCATION:Carrer Llevant, 10       08110 Montcada i Reixac
METHOD:PUBLISH
X-WR-CALNAME:oac@montcada.org
X-WR-TIMEZONE:Europe/Madrid
DESCRIPTION:
URI:https://www.montcada.cat/actualitat/agenda/festa-dhivern-a-la-ribera.html
CLASS:PUBLIC
END:VEVENT
END:VCALENDAR
