BEGIN:VCALENDAR
VERSION:2.0
CALSCALE:GREGORIAN
PRODID:-//Diputació de Barcelona//DibaCMS//EN
BEGIN:VEVENT
UID:31686
DTSTAMP:20260423T035805
DTSTART:20241128T183000
DTEND:20241128T183000
SUMMARY:Ple novembre 2024
LOCATION:Carrer Major, 32 - Carrer Domènec Fins, 15 08110 Montcada i Reixac
METHOD:PUBLISH
X-WR-CALNAME:oac@montcada.org
X-WR-TIMEZONE:Europe/Madrid
DESCRIPTION:Sessió ordinària.

URI:https://www.montcada.cat/actualitat/agenda/ple-novembre-2024.html
CLASS:PUBLIC
END:VEVENT
END:VCALENDAR
