BEGIN:VCALENDAR
VERSION:2.0
CALSCALE:GREGORIAN
PRODID:-//Diputació de Barcelona//DibaCMS//EN
BEGIN:VEVENT
UID:31675
DTSTAMP:20260422T202407
DTSTART:20241203T193000
DTEND:20241203T193000
SUMMARY:Acte. Inauguració exposició 170è aniversari arribada del tren a Montcada i Reixac
LOCATION: pl. de l'Església, 12       08110 Montcada i Reixac
METHOD:PUBLISH
X-WR-CALNAME:oac@montcada.org
X-WR-TIMEZONE:Europe/Madrid
DESCRIPTION:
URI:https://www.montcada.cat/ajuntament/govern/agenda-politica/hemeroteca-agenda-politica/acte-inauguracio-exposicio-170e-aniversari-arribada-del-tren-a-montcada-i-reixac.html
CLASS:PUBLIC
END:VEVENT
END:VCALENDAR
