BEGIN:VCALENDAR
VERSION:2.0
CALSCALE:GREGORIAN
PRODID:-//Diputació de Barcelona//DibaCMS//EN
BEGIN:VEVENT
UID:31626
DTSTAMP:20260422T114208
DTSTART:20250112T180000
DTEND:20250112T180000
SUMMARY:Concert de Valsos i Danses 2025
LOCATION:Carrer Tarragona, 32       08110 Montcada i Reixac
METHOD:PUBLISH
X-WR-CALNAME:oac@montcada.org
X-WR-TIMEZONE:Europe/Madrid
DESCRIPTION:
URI:https://www.montcada.cat/actualitat/agenda/concert-de-valsos-i-danses-2025.html
CLASS:PUBLIC
END:VEVENT
END:VCALENDAR
