BEGIN:VCALENDAR
VERSION:2.0
CALSCALE:GREGORIAN
PRODID:-//Diputació de Barcelona//DibaCMS//EN
BEGIN:VEVENT
UID:31625
DTSTAMP:20260422T112038
DTSTART:20250105T200000
DTEND:20250105T200000
SUMMARY:Lliurament de claus i discursos oficials
LOCATION:Carrer Ferrer i Guàrdia (passeig sobre la C-17) 
METHOD:PUBLISH
X-WR-CALNAME:oac@montcada.org
X-WR-TIMEZONE:Europe/Madrid
DESCRIPTION:
URI:https://www.montcada.cat/actualitat/agenda/lliurament-de-claus-i-discursos-oficials.html
CLASS:PUBLIC
END:VEVENT
END:VCALENDAR
