BEGIN:VCALENDAR
VERSION:2.0
CALSCALE:GREGORIAN
PRODID:-//Diputació de Barcelona//DibaCMS//EN
BEGIN:VEVENT
UID:31623
DTSTAMP:20260421T145842
DTSTART:20250105T160000
DTEND:20250105T160000
SUMMARY:Arribada dels Reis 2025
LOCATION:Plaça del Poble 08110 Montcada i Reixac
METHOD:PUBLISH
X-WR-CALNAME:oac@montcada.org
X-WR-TIMEZONE:Europe/Madrid
DESCRIPTION:
URI:https://www.montcada.cat/actualitat/agenda/arribada-dels-reis-2025.html
CLASS:PUBLIC
END:VEVENT
END:VCALENDAR
