BEGIN:VCALENDAR
VERSION:2.0
CALSCALE:GREGORIAN
PRODID:-//Diputació de Barcelona//DibaCMS//EN
BEGIN:VEVENT
UID:31622
DTSTAMP:20260422T133252
DTSTART:20250104T160000
DTEND:20250104T200000
SUMMARY:Cartera Reial 2025
LOCATION:08110 Montcada i Reixac
METHOD:PUBLISH
X-WR-CALNAME:oac@montcada.org
X-WR-TIMEZONE:Europe/Madrid
DESCRIPTION:
URI:https://www.montcada.cat/actualitat/agenda/cartera-reial-2025.html
CLASS:PUBLIC
END:VEVENT
END:VCALENDAR
