BEGIN:VCALENDAR
VERSION:2.0
CALSCALE:GREGORIAN
PRODID:-//Diputació de Barcelona//DibaCMS//EN
BEGIN:VEVENT
UID:31618
DTSTAMP:20260423T140129
DTSTART:20241120T000000
DTEND:20241205T235900
SUMMARY:Concurs d'aparadors de Nadal 2024
LOCATION:
METHOD:PUBLISH
X-WR-CALNAME:oac@montcada.org
X-WR-TIMEZONE:Europe/Madrid
DESCRIPTION:
URI:https://www.montcada.cat/actualitat/agenda/concurs-daparadors-de-nadal-2024.html
CLASS:PUBLIC
END:VEVENT
END:VCALENDAR
