BEGIN:VCALENDAR
VERSION:2.0
CALSCALE:GREGORIAN
PRODID:-//Diputació de Barcelona//DibaCMS//EN
BEGIN:VEVENT
UID:31617
DTSTAMP:20260422T135705
DTSTART:20241220T000000
DTEND:20250106T000000
SUMMARY:Concurs de balcons, finestres i façanes 2024
LOCATION:
METHOD:PUBLISH
X-WR-CALNAME:oac@montcada.org
X-WR-TIMEZONE:Europe/Madrid
DESCRIPTION:
URI:https://www.montcada.cat/actualitat/agenda/concurs-de-balcons-finestres-i-facanes-2024.html
CLASS:PUBLIC
END:VEVENT
END:VCALENDAR
