BEGIN:VCALENDAR
VERSION:2.0
CALSCALE:GREGORIAN
PRODID:-//Diputació de Barcelona//DibaCMS//EN
BEGIN:VEVENT
UID:31616
DTSTAMP:20260422T124601
DTSTART:20241227T000000
DTEND:20241230T000000
SUMMARY:Parc de Nadal 2024
LOCATION:Camí de la Font Freda, 3       08110 Montcada i Reixac
METHOD:PUBLISH
X-WR-CALNAME:oac@montcada.org
X-WR-TIMEZONE:Europe/Madrid
DESCRIPTION:
URI:https://www.montcada.cat/actualitat/agenda/parc-de-nadal-2024.html
CLASS:PUBLIC
END:VEVENT
END:VCALENDAR
