BEGIN:VCALENDAR
VERSION:2.0
CALSCALE:GREGORIAN
PRODID:-//Diputació de Barcelona//DibaCMS//EN
BEGIN:VEVENT
UID:31614
DTSTAMP:20260422T135447
DTSTART:20241231T120000
DTEND:20241231T133000
SUMMARY:L'Home dels nassos 2024
LOCATION:
METHOD:PUBLISH
X-WR-CALNAME:oac@montcada.org
X-WR-TIMEZONE:Europe/Madrid
DESCRIPTION:
URI:https://www.montcada.cat/actualitat/agenda/lhome-dels-nassos-2024.html
CLASS:PUBLIC
END:VEVENT
END:VCALENDAR
