BEGIN:VCALENDAR
VERSION:2.0
CALSCALE:GREGORIAN
PRODID:-//Diputació de Barcelona//DibaCMS//EN
BEGIN:VEVENT
UID:31568
DTSTAMP:20260423T073504
DTSTART:20241121T183000
DTEND:20241121T183000
SUMMARY:Vetllada cultural. Commemoració d'efemèrides 2024
LOCATION:Carrer Major, 47       08110 Montcada i Reixac
METHOD:PUBLISH
X-WR-CALNAME:oac@montcada.org
X-WR-TIMEZONE:Europe/Madrid
DESCRIPTION:
URI:https://www.montcada.cat/actualitat/agenda/vetllada-cultural-commemoracio-defemerides-2024.html
CLASS:PUBLIC
END:VEVENT
END:VCALENDAR
